BEGIN:VCALENDAR
VERSION:2.0
PRODID:Imitheme.com 
BEGIN:VEVENT
UID:20260419T2349041826671304
DTSTAMP;TZID=UTC:2026-04-19 23:49:04
DTSTART;TZID=America/Los_Angeles:20260419T234904
DTEND;TZID=America/Los_Angeles:20260419T234904
SUMMARY:Sunday Service
LOCATION:
DESCRIPTION:Our Sunday Service is held at the St John\'s Hall at 26 Queensway Road.  You can see the google maps reference in the footer below. If you are coming by car, the closest place to park is Mid-town Car Park. Our meetings begin at 11am. Afterwards, we enjoy a sandwich lunch together and you are very welcome to join us.  There is usually plenty!  We are very big on the Word of God, fellowship and food!
URL:https://www.newlifegib.com/eventer/sunday-service/
END:VEVENT
END:VCALENDAR
